BEGIN:VCALENDAR
VERSION:2.0
PRODID:Events Booking
BEGIN:VEVENT
UID:69e7a97acdbe9
SUMMARY:Practice Sheet 10/4/24
DESCRIPTION:Work on practicing your curling skills or join with others to p
 lay a game.&nbsp\;
 &nbsp\;
LOCATION:2525A NW South Outer Road\, Blue Springs\, MO 64015
DTSTART:20241005T030000Z
DTEND:20241005T033000Z
DTSTAMP:20260421T134442Z
ORGANIZER;CN=Kansas City Curling Club:MAILTO:do-not-reply@kccurling.com
GEO:39.031648;-94.292141
X-APPLE-STRUCTURED-LOCATION;VALUE=URI;X-ADDRESS=2525A NW South Outer Road\,
  Blue Springs\, MO 64015;X-APPLE-RADIUS=72;X-TITLE=Kansas City Curling Clu
 b:39.031648;-94.292141
END:VEVENT
END:VCALENDAR