BEGIN:VCALENDAR
VERSION:2.0
PRODID:Events Booking
BEGIN:VEVENT
UID:69e8673362a9f
SUMMARY:Veterans United Home Loans- 2
DESCRIPTION:Give curling a try\, come out and have a great time as an instr
 uctor leads you through the beginning skills of curling.&nbsp\;
DTSTART:20260501T173000Z
DTEND:20260501T203000Z
DTSTAMP:20260422T031411Z
ORGANIZER;CN=Kansas City Curling Club:MAILTO:do-not-reply@kccurling.com
END:VEVENT
END:VCALENDAR