BEGIN:VCALENDAR
VERSION:2.0
PRODID:Events Booking
BEGIN:VEVENT
UID:69eb767252035
SUMMARY:Private Event- Ameritrust
DESCRIPTION:Give curling a try\, come out and have a great time as an instr
 uctor leads you through the beginning skills of curling.&nbsp\;
DTSTART:20260506T190000Z
DTEND:20260506T220000Z
DTSTAMP:20260424T105602Z
ORGANIZER;CN=Kansas City Curling Club:MAILTO:do-not-reply@kccurling.com
END:VEVENT
END:VCALENDAR